BEGIN:VCALENDAR
VERSION:2.0
PRODID:-//Tukios.com/
BEGIN:VEVENT
UID:d846a2de-5161-448d-ae4d-102025e49aee@www.neighborhoodfuneralhome.com
DTSTAMP:20260424T224102Z
DTSTART:20260425T220000Z
DTEND:20260426T030000Z
SUMMARY:Funeral Service
DESCRIPTION:
URL:https://www.neighborhoodfuneralhome.com/obituaries/janet-yanez
LOCATION:Kingdom Hall of Jehovah's Witnesses 3121 Cogswell Rd  El Monte 
	CA 91732
GEO:34.0637856;-118.0187604
END:VEVENT
END:VCALENDAR